BEGIN:VCALENDAR
VERSION:2.0
PRODID:-//Eventin//Event Calendar//EN
CALSCALE:GREGORIAN
METHOD:PUBLISH
BEGIN:VEVENT
UID:d0fb2758502f2e5431096df43ec31356@thejwe.com
SUMMARY:test test test 2
DESCRIPTION:
LOCATION:test
DTSTAMP:20260424T140628Z
DTSTART:20260430T120000Z
DTEND:20260527T210000Z
END:VEVENT
END:VCALENDAR
